BEGIN:VCALENDAR
VERSION:2.0
PRODID:-//Becki Baumgartner, PhD - Natural Medicine - ECPv6.15.20//NONSGML v1.0//EN
CALSCALE:GREGORIAN
METHOD:PUBLISH
X-ORIGINAL-URL:https://beckibaumgartner.com
X-WR-CALDESC:Events for Becki Baumgartner, PhD - Natural Medicine
REFRESH-INTERVAL;VALUE=DURATION:PT1H
X-Robots-Tag:noindex
X-PUBLISHED-TTL:PT1H
BEGIN:VTIMEZONE
TZID:America/Chicago
BEGIN:DAYLIGHT
TZOFFSETFROM:-0600
TZOFFSETTO:-0500
TZNAME:CDT
DTSTART:20250309T080000
END:DAYLIGHT
BEGIN:STANDARD
TZOFFSETFROM:-0500
TZOFFSETTO:-0600
TZNAME:CST
DTSTART:20251102T070000
END:STANDARD
BEGIN:DAYLIGHT
TZOFFSETFROM:-0600
TZOFFSETTO:-0500
TZNAME:CDT
DTSTART:20260308T080000
END:DAYLIGHT
BEGIN:STANDARD
TZOFFSETFROM:-0500
TZOFFSETTO:-0600
TZNAME:CST
DTSTART:20261101T070000
END:STANDARD
BEGIN:DAYLIGHT
TZOFFSETFROM:-0600
TZOFFSETTO:-0500
TZNAME:CDT
DTSTART:20270314T080000
END:DAYLIGHT
BEGIN:STANDARD
TZOFFSETFROM:-0500
TZOFFSETTO:-0600
TZNAME:CST
DTSTART:20271107T070000
END:STANDARD
END:VTIMEZONE
BEGIN:VEVENT
DTSTART;TZID=America/Chicago:20260516T110000
DTEND;TZID=America/Chicago:20260516T140000
DTSTAMP:20260420T061005
CREATED:20260324T191839Z
LAST-MODIFIED:20260324T191839Z
UID:5647-1778929200-1778940000@beckibaumgartner.com
SUMMARY:Reiki 1 Certification Class Sat 5/16/26 - Nashville TN (In Person)
DESCRIPTION:Reiki 1 Certification Class\nThe Reiki 1 certification class focuses mainly on YOU. You’ll learn to see\, feel\, and channel energy to heal yourself. \nWishing to heal yourself is not selfish… it is essential. The more balanced you are mentally\, physically\, emotionally\, and spiritually\, the more grounded and present you can be for others. \nIn Reiki Level 1\, you’ll begin by learning the foundation of true healing: how to work on yourself. You’ll develop the ability to feel\, understand\, and channel Reiki energy with confidence and clarity. \nYou’ll also learn how to assess and balance the chakras using tools like a pendulum and a crystal\, while strengthening your ability to perceive and sense energy in a natural\, intuitive way. \nNo prior experience is needed. We guide you step-by-step through everything\, from grounding yourself before energy work to protecting your energy while working with others… so you feel supported\, safe\, and empowered from the very beginning. \nAs part of the class\, you’ll be guided through a 21-day Reiki Self-Healing Cleanse. The cleanse is a powerful process designed to support deep\, lasting transformation. \nThis period of focused self-healing can be truly life-changing\, helping you release mental\, physical\, emotional\, and spiritual patterns you may have been carrying for years\, and creating space for greater balance\, clarity\, and well-being. \nAfter completing the class\, you’ll carry the ability to bring healing wherever it’s needed: within yourself and out into the world around you. You’ll be able to help your family\, friends\, pets\, plants\, and beyond\, sharing a calm\, balanced energy that creates meaningful\, lasting change. \nThe method we teach is Usui Shiki Ryoho (Usui Method of Natural Healing). Usui Shiki Ryoho Reiki is a traditional Japanese energy healing practice founded by Dr. Mikao Usui. It involves channeling universal life force energy through the hands to promote physical and emotional healing and balance in the body. The practice follows a structured learning path\, starting with Reiki 1\, where students learn to channel energy for self-healing and to heal others. This method emphasizes traditional elements\, such as hand positions\, attunements\, and sacred symbols\, passed down from teacher to student. \nSee Our Reiki Lineage \nThis is a very hands-on class. While we will briefly discuss the history and philosophy of Reiki\, our primary focus will be on hands-on practice\, working together\, and utilizing Reiki energy. We want everyone to experience channeling Reiki and receiving Reiki from others. \nClass Includes: \n\nReiki Level 1 Training Manual\nReiki Level 1 Attunement\nAll 5 Reiki Symbols Placed in Your Crown\, Palms\, and Aura\nReiki Level 1 Certificate\n\nPlease wear comfortable clothing and drink plenty of water the day before the class. \nPassage Fee: $150 – Due at Class \nLearn More About The Reiki 1 Class \nPeople Also Ask:\nWhat is Reiki 1 certification? \nReiki 1 certification is an introductory-level course that teaches participants the fundamentals of Reiki healing techniques. It covers the history\, principles\, hand positions\, and techniques for self-healing and healing others. \nWhat are the requirements to enroll in a Reiki 1 certification class? \nThere are generally no prerequisites for Reiki 1. Anyone interested in energy healing and willing to learn can enroll in the course. \nWhat will I learn in a Reiki 1 certification class? \nIn a Reiki 1 class\, you’ll learn the fundamental principles and practices of Reiki\, including how to connect to and channel universal life energy\, the hand positions for treating oneself and others\, and techniques for grounding and protecting yourself energetically. \nHow long does it take to complete a Reiki 1 certification class? \nThe class lasts 3-4 hours\, and then we recommend self-healing and practice for 21 days afterward. \nWhat can I do with a Reiki 1 certification? \nAfter completing Reiki 1 certification\, you can practice Reiki for self-healing and healing others\, including friends\, family\, and potentially clients\, if you choose to pursue a career in Reiki healing. However\, you’ll typically need to continue your training and gain further certifications for professional practice or to teach Reiki to others. \nHow do I prepare for the Reiki 1 Certification Class? \nStaying well hydrated and wearing comfortable clothing are essential for preparing for a Reiki 1 Certification Class. Hydration is crucial because it supports your body’s overall functioning\, including its ability to effectively channel and work with energy. When you’re well hydrated\, your energy flows more freely\, making you more sensitive to subtle energies during Reiki practice. This helps you connect more deeply with the Reiki energy\, enhancing the overall experience. Additionally\, comfortable clothing enables you to relax and focus on your practice without distraction.
URL:https://beckibaumgartner.com/event/reiki-1-certification-class-051626/
LOCATION:Holistic Heaven Wellness Center\, 207 Sawyer Brown Ct.\, Nashville\, TN\, 37221\, United States
CATEGORIES:Reiki Classes
ATTACH;FMTTYPE=image/jpeg:https://beckibaumgartner.com/wp-content/uploads/2024/03/Reiki-1-Class-Graphic.jpg
ORGANIZER;CN="Becki Baumgartner%2C PhD":MAILTO:beckibaumgartner@comcast.net
END:VEVENT
END:VCALENDAR