BEGIN:VCALENDAR
VERSION:2.0
PRODID:-//Becki Baumgartner, PhD - Natural Medicine - ECPv6.15.20//NONSGML v1.0//EN
CALSCALE:GREGORIAN
METHOD:PUBLISH
X-WR-CALNAME:Becki Baumgartner, PhD - Natural Medicine
X-ORIGINAL-URL:https://beckibaumgartner.com
X-WR-CALDESC:Events for Becki Baumgartner, PhD - Natural Medicine
REFRESH-INTERVAL;VALUE=DURATION:PT1H
X-Robots-Tag:noindex
X-PUBLISHED-TTL:PT1H
BEGIN:VTIMEZONE
TZID:America/Chicago
BEGIN:DAYLIGHT
TZOFFSETFROM:-0600
TZOFFSETTO:-0500
TZNAME:CDT
DTSTART:20230312T080000
END:DAYLIGHT
BEGIN:STANDARD
TZOFFSETFROM:-0500
TZOFFSETTO:-0600
TZNAME:CST
DTSTART:20231105T070000
END:STANDARD
BEGIN:DAYLIGHT
TZOFFSETFROM:-0600
TZOFFSETTO:-0500
TZNAME:CDT
DTSTART:20240310T080000
END:DAYLIGHT
BEGIN:STANDARD
TZOFFSETFROM:-0500
TZOFFSETTO:-0600
TZNAME:CST
DTSTART:20241103T070000
END:STANDARD
BEGIN:DAYLIGHT
TZOFFSETFROM:-0600
TZOFFSETTO:-0500
TZNAME:CDT
DTSTART:20250309T080000
END:DAYLIGHT
BEGIN:STANDARD
TZOFFSETFROM:-0500
TZOFFSETTO:-0600
TZNAME:CST
DTSTART:20251102T070000
END:STANDARD
END:VTIMEZONE
BEGIN:VEVENT
DTSTART;TZID=America/Chicago:20240615T150000
DTEND;TZID=America/Chicago:20240615T170000
DTSTAMP:20260422T232941
CREATED:20240323T181206Z
LAST-MODIFIED:20240604T193600Z
UID:4654-1718463600-1718470800@beckibaumgartner.com
SUMMARY:Reiki 2 Certification Class (In Person) Sat 6/15/24 - Nashville\, TN
DESCRIPTION:In the Reiki 2 Certification Class\, we explore harnessing Reiki energy to help others. You also learn distance healing. \nHighlights: \n\nTransition from self-healing to healing others\nLearn advanced techniques for enhanced practice\nGain skills in distance healing and chakra balancing\nStrengthen your connection to Reiki energy\nExperience increased intuition and spiritual growth\n\nPrerequisites: \n\nCompletion of Reiki 1 training and certification\n\nCertification Course Includes: \n\nComprehensive training manual\nReiki Level 2 attunement\nPlacement of all 5 Reiki symbols in your aura and palms\nReiki Level 2 certificate\n\nCourse Curriculum: \n\nIntroduction and Reiki 1 refresher\nExploring Reiki 2 symbols and their meanings\nTechniques for distance healing\nGrounding\, protection\, and self-care practices\nHands-on Reiki practice\n\nReady to take your Reiki practice to the next level? Join us for Reiki 2 Certification and empower yourself to heal others! \nCost: $200 – Pay at Class \nRegister for Class \nLearn More About Reiki 2 \nPeople Also Ask:\nWhat is Reiki 2\, and how does it differ from Reiki 1? \nReiki 2 is the next level of Reiki training after Reiki 1. In Reiki 2\, you delve deeper into the practice and learn advanced techniques such as distance healing and working with symbols. Reiki 1 primarily focuses on self-healing and treating others in person\, while Reiki 2 expands on these concepts and introduces new tools for healing. \nWhat can I expect to learn in a Reiki 2 class? \nIn a Reiki 2 class\, you will typically learn about the three sacred Reiki symbols and their uses\, including how to draw and activate them. You’ll also learn techniques for sending Reiki energy over distance\, enhancing the power of your healing sessions\, and working with mental and emotional healing. Additionally\, you may receive further attunements to strengthen your connection to the Reiki energy. \nDo I need to have completed Reiki 1 before taking Reiki 2? \nYou must complete Reiki 1 training before moving on to Reiki 2. Reiki 1 provides the foundational knowledge and attunements necessary to begin working with Reiki energy safely and effectively. Without this foundation\, understanding and integrating the concepts taught in Reiki 2 may be challenging. \nHow long does it take to become certified in Reiki 2? \nThe duration of Reiki 2 certification classes can vary depending on the instructor or institution offering the training. Our Reiki 2 class lasts several hours\, during which you’ll receive instruction\, practice the techniques\, and receive attunements. Some instructors may offer shorter or more extended courses\, so it’s essential to inquire about the specific schedule when enrolling. \nWhat can I do with Reiki 2 certification? \nWith Reiki 2 certification\, you’ll have the knowledge and skills to work as a professional Reiki practitioner. You can offer Reiki sessions to clients in person and remotely\, expanding your healing practice beyond what you learned in Reiki 1. Additionally\, you can further your own spiritual growth and self-healing journey by incorporating the advanced techniques and symbols learned in Reiki 2 into your daily practice.
URL:https://beckibaumgartner.com/event/reiki-2-certification-class-6-15-24-nashville-tn/
LOCATION:Holistic Heaven Wellness Center\, 207 Sawyer Brown Ct.\, Nashville\, TN\, 37221\, United States
CATEGORIES:Reiki Classes
ATTACH;FMTTYPE=image/jpeg:https://beckibaumgartner.com/wp-content/uploads/2024/03/Reiki-2-Class-Graphic.jpg
ORGANIZER;CN="Becki Baumgartner%2C PhD":MAILTO:beckibaumgartner@comcast.net
END:VEVENT
BEGIN:VEVENT
DTSTART;TZID=America/Chicago:20240615T110000
DTEND;TZID=America/Chicago:20240615T140000
DTSTAMP:20260422T232941
CREATED:20240323T172829Z
LAST-MODIFIED:20240604T193441Z
UID:4649-1718449200-1718460000@beckibaumgartner.com
SUMMARY:Reiki 1 Certification Class (In Person) Sat 6/15/24 - Nashville TN
DESCRIPTION:Reiki 1 Certification Class\nThe Reiki 1 certification class focuses mainly on you. You’ll learn how to see\, feel\, and channel energy to heal yourself. \nThe most important things you’ll learn are self-healing and how to feel and channel Reiki energy. \nYou’ll also learn how to read and balance chakras. \nAfter completing the class\, you can use Reiki to help yourself\, your family\, friends\, and pets. \nClass Includes: \n\nReiki Level 1 Training Manual\nReiki Level 1 Attunement\nAll 5 Reiki Symbols Placed in Your Crown\, Palms\, and Aura\nReiki Level 1 Certificate\n\nPlease wear comfortable clothing and drink plenty of water the day before the class. \nCost: $150 – Pay at Class \nRegister for Class \nLearn More About The Reiki 1 Class \nPeople Also Ask:\nWhat is Reiki 1 certification? \nReiki 1 certification is an introductory-level course in which participants learn the basics of Reiki healing techniques. It covers the history\, principles\, hand positions\, and how to perform self-healing and healing on others. \nWhat are the requirements to enroll in a Reiki 1 certification class? \nThere are generally no prerequisites for Reiki 1. Anyone interested in energy healing and willing to learn can enroll in the course. \nWhat will I learn in a Reiki 1 certification class? \nIn a Reiki 1 class\, you’ll learn the fundamental principles and practices of Reiki\, including how to connect to and channel universal life energy\, the hand positions for treating oneself and others\, and techniques for grounding and protecting yourself energetically. \nHow long does it take to complete a Reiki 1 certification class? \nThe class lasts 3-4 hours\, and then we recommend self-healing and practice for 21 days afterward. \nWhat can I do with a Reiki 1 certification? \nAfter completing Reiki 1 certification\, you can practice Reiki for self-healing and healing others\, including friends\, family\, and potentially clients\, if you choose to pursue a career in Reiki healing. However\, you’ll typically need to continue your training and gain further certifications for professional practice or to teach Reiki to others.
URL:https://beckibaumgartner.com/event/reiki-1-certification-class-6-15-24-nashville-tn/
LOCATION:Holistic Heaven Wellness Center\, 207 Sawyer Brown Ct.\, Nashville\, TN\, 37221\, United States
CATEGORIES:Reiki Classes
ATTACH;FMTTYPE=image/jpeg:https://beckibaumgartner.com/wp-content/uploads/2024/03/Reiki-1-Class-Graphic.jpg
ORGANIZER;CN="Becki Baumgartner%2C PhD":MAILTO:beckibaumgartner@comcast.net
END:VEVENT
BEGIN:VEVENT
DTSTART;TZID=America/Chicago:20240420T140000
DTEND;TZID=America/Chicago:20240420T180000
DTSTAMP:20260422T232941
CREATED:20240323T234449Z
LAST-MODIFIED:20240323T234551Z
UID:4712-1713621600-1713636000@beckibaumgartner.com
SUMMARY:Open House: Women's Personal Power Sat 4/20/24 - Nashville\, TN
DESCRIPTION:Women’s Personal Power Open House\nPlease join us for an open house to rediscover your personal power through Reiki and Intuitive Tarot! \nFeeling exhausted and overwhelmed? Need a boost? Treat yourself to a restful and restorative Reiki session and an uplifting and empowering Tarot reading. \nWe’ll offer introductory specials for 15-minute Reiki sessions and 15-minute Intuitive Tarot readings at $30 each or $55 for both. \nSpecial guest PJ Olsen\, Founder and owner of Restorative Strength\, will join us to offer bite-sized movement and personal strength assessment offerings for just $15. These include take-home information to continue your movement journey. \nIt’s sure to be a fun afternoon of specials and a market of magical possibilities to lift your spirits! We hope to see you! \nOrganizers: \n\nJosce Dierschke: Josce D: Reiki\, Energetic Work & Nature Wanders\nLaura Nevins: Lux Sana Amara \nPJ Olsen: Restorative Strength
URL:https://beckibaumgartner.com/event/open-house-womens-personal-power-sat-4-20-24-nashville-tn/
LOCATION:Holistic Heaven Wellness Center\, 207 Sawyer Brown Ct.\, Nashville\, TN\, 37221\, United States
ORGANIZER;CN="Josce Dierschke":MAILTO:joscewellspring@gmail.com
END:VEVENT
BEGIN:VEVENT
DTSTART;TZID=America/Chicago:20240413T140000
DTEND;TZID=America/Chicago:20240413T170000
DTSTAMP:20260422T232941
CREATED:20240323T160957Z
LAST-MODIFIED:20240323T172938Z
UID:4626-1713016800-1713027600@beckibaumgartner.com
SUMMARY:Reiki 1 Certification Class (In Person) Sat 4/13/24 - Nashville\, TN
DESCRIPTION:Reiki 1 Certification Class\nThe Reiki 1 certification class focuses mainly on you. You’ll learn how to see\, feel\, and channel energy to heal yourself. \nThe most important things you’ll learn are self-healing and how to feel and channel Reiki energy. \nYou’ll also learn how to read and balance chakras. \nAfter completing the class\, you can use Reiki to help yourself\, your family\, friends\, and pets. \nClass Includes: \n\nReiki Level 1 Training Manual\nReiki Level 1 Attunement\nAll 5 Reiki Symbols Placed in Your Crown\, Palms\, and Aura\nReiki Level 1 Certificate\n\nPlease wear comfortable clothing and drink plenty of water the day before the class. \nCost: $150 – Pay at Class \nRegister for Class \nLearn More About The Reiki 1 Class \nPeople Also Ask:\nWhat is Reiki 1 certification? \nReiki 1 certification is an introductory-level course in which participants learn the basics of Reiki healing techniques. It covers the history\, principles\, hand positions\, and how to perform self-healing and healing on others. \nWhat are the requirements to enroll in a Reiki 1 certification class? \nThere are generally no prerequisites for Reiki 1. Anyone interested in energy healing and willing to learn can enroll in the course. \nWhat will I learn in a Reiki 1 certification class? \nIn a Reiki 1 class\, you’ll learn the fundamental principles and practices of Reiki\, including how to connect to and channel universal life energy\, the hand positions for treating oneself and others\, and techniques for grounding and protecting yourself energetically. \nHow long does it take to complete a Reiki 1 certification class? \nThe class lasts 3-4 hours\, and then we recommend self-healing and practice for 21 days afterward. \nWhat can I do with a Reiki 1 certification? \nAfter completing Reiki 1 certification\, you can practice Reiki for self-healing and healing others\, including friends\, family\, and potentially clients\, if you choose to pursue a career in Reiki healing. However\, you’ll typically need to continue your training and gain further certifications for professional practice or to teach Reiki to others.
URL:https://beckibaumgartner.com/event/reiki-1-certification-class-nashville-tn/
LOCATION:Holistic Heaven Wellness Center\, 207 Sawyer Brown Ct.\, Nashville\, TN\, 37221\, United States
ORGANIZER;CN="Becki Baumgartner%2C PhD":MAILTO:beckibaumgartner@comcast.net
END:VEVENT
END:VCALENDAR