BEGIN:VCALENDAR
VERSION:2.0
PRODID:-//Becki Baumgartner, PhD - Natural Medicine - ECPv6.15.20//NONSGML v1.0//EN
CALSCALE:GREGORIAN
METHOD:PUBLISH
X-ORIGINAL-URL:https://beckibaumgartner.com
X-WR-CALDESC:Events for Becki Baumgartner, PhD - Natural Medicine
REFRESH-INTERVAL;VALUE=DURATION:PT1H
X-Robots-Tag:noindex
X-PUBLISHED-TTL:PT1H
BEGIN:VTIMEZONE
TZID:America/Chicago
BEGIN:DAYLIGHT
TZOFFSETFROM:-0600
TZOFFSETTO:-0500
TZNAME:CDT
DTSTART:20250309T080000
END:DAYLIGHT
BEGIN:STANDARD
TZOFFSETFROM:-0500
TZOFFSETTO:-0600
TZNAME:CST
DTSTART:20251102T070000
END:STANDARD
BEGIN:DAYLIGHT
TZOFFSETFROM:-0600
TZOFFSETTO:-0500
TZNAME:CDT
DTSTART:20260308T080000
END:DAYLIGHT
BEGIN:STANDARD
TZOFFSETFROM:-0500
TZOFFSETTO:-0600
TZNAME:CST
DTSTART:20261101T070000
END:STANDARD
BEGIN:DAYLIGHT
TZOFFSETFROM:-0600
TZOFFSETTO:-0500
TZNAME:CDT
DTSTART:20270314T080000
END:DAYLIGHT
BEGIN:STANDARD
TZOFFSETFROM:-0500
TZOFFSETTO:-0600
TZNAME:CST
DTSTART:20271107T070000
END:STANDARD
END:VTIMEZONE
BEGIN:VEVENT
DTSTART;TZID=America/Chicago:20260517T130000
DTEND;TZID=America/Chicago:20260517T160000
DTSTAMP:20260422T004403
CREATED:20260324T193947Z
LAST-MODIFIED:20260324T194401Z
UID:5664-1779022800-1779033600@beckibaumgartner.com
SUMMARY:Reiki 3 / Reiki Master Certification Class Sat 5/17/26 - Nashville\, TN (In Person)
DESCRIPTION:Reiki 3/Reiki Master Certification Class (Usui Shiki Ryoho – Usui Method of Natural Healing)\nThe Reiki 3/Reiki Master Certification is the final step in the Usui Shiki Ryoho Reiki training. This advanced level empowers you to master the Reiki energy\, enabling you to perform attunements and teach Reiki to others. With this certification\, you will gain a deeper understanding of the Reiki symbols\, techniques for chakra balancing\, and the skills necessary to pass attunements. Completing this course will enhance your healing abilities\, allowing you to share the transformative power of Reiki with a broader community. \nPassage Fee: $300 – Pay at Class \nRegister for the Reiki 3/Reiki Master Certification Class \nCourse Content:\n\nIntroduction\nRefresher on Reiki 1 and Reiki 2\nQ&A Session\nUnderstanding the Reiki 3/Reiki Master Symbols:\n\nDai-Ko-Myo\nRaku\n\n\nPassing Attunements:\n\nWhat is an Attunement?\nThoughts on Passing Attunements\nTips for Passing Attunements\nStep-by-Step Instructions on How to Pass an Attunement\n\n\nBalancing the Chakras:\n\nUsing Music\, Dance\, and Aroma for Chakra Balancing\nDetailed Focus on Each Chakra:\n\nRoot Chakra – First Chakra (1st)\nSacral Chakra – Second Chakra (2nd)\nSolar Plexus Chakra – Third Chakra (3rd)\nHeart Chakra – Fourth Chakra (4th)\nThroat Chakra – Fifth Chakra (5th)\nThird Eye Chakra – Sixth Chakra (6th)\nCrown Chakra – Seventh Chakra (7th)\n\n\n\n\nEmpowering Yourself:\n\nThe Reiki Principles\nEthics & Business\n\n\nHands-on Reiki Practice\n\nPrerequisites:\nThis Reiki 3/Reiki Master class is open to anyone who has previously completed Reiki Levels 1 and 2. If you have received your Reiki 1 and 2 Certifications from other Reiki Masters\, please scan and email them to me before the class. \nAdditional Information:\nThis class includes a review of the basics covered in Reiki Levels 1 & 2\, addressing any questions and concerns. You will also learn how to pass attunements to others and the fundamentals of teaching Reiki. \nWhat You’ll Gain:\n\nReiki 3/ReikiMaster Instruction Manual\nReiki 3/Reiki Master Training\nReiki 3/Reiki Master Attunement\nAll 5 Reiki Symbols Placed in Your Palms and Aura\nTraining on How to Use All 5 Reiki Symbols\nReiki 3/Reiki Master Certificate\n\nReady to elevate your Reiki practice to the next level? Join our Reiki Master Certification Class and embark on a transformative journey. Register today to secure your spot! \nPassage Fee: $300 – Pay at class \nRegister for the Reiki 3/Reiki Master Certification Class \nPeople Also Ask:\nWhat is Reiki 3/Reiki Master Certification?\nReiki 3\, also known as Reiki Master Certification\, is the final level of Reiki training. It empowers practitioners to use advanced healing techniques\, pass attunements\, and teach Reiki to others. \nWhat are the prerequisites for the Reiki Master Certification Class?\nTo enroll in the Reiki Master Certification Class\, you must have completed Reiki Levels 1 and 2. Proof of certification from previous levels is required. \nWhat will I learn in the Reiki Master Certification Class?\nYou will learn advanced Reiki techniques\, the five Reiki symbols\, how to perform and pass attunements\, chakra balancing methods\, and how to teach Reiki. \nWhat are the benefits of becoming a Reiki Master?\nAs a Reiki Master\, you can deepen your healing abilities\, pass attunements to others\, teach Reiki\, and enhance your spiritual growth and personal development. \nWhat materials will I receive during the class?\nUpon completing the class\, participants will receive a Reiki Master Instruction Manual\, a Reiki Level 3 Training Manual\, and a Reiki Master Certificate. \nWhat is an attunement?\nAn attunement is a sacred process in which a Reiki Master transfers Reiki energy and symbols to the student\, enhancing their ability to channel Reiki energy. \nCan I practice Reiki professionally after becoming a Reiki Master?\nYes\, after becoming a Reiki Master\, you can offer Reiki healing sessions professionally\, pass attunements\, and teach Reiki classes to others. \nHow does Reiki 3 differ from Reiki Levels 1 and 2?\nReiki 3 focuses on advanced techniques\, the master symbols\, and the ability to pass attunements. Levels 1 and 2 cover basic healing practices and the initial set of symbols.
URL:https://beckibaumgartner.com/event/reiki-master-certification-class-051726/
LOCATION:Holistic Heaven Wellness Center\, 207 Sawyer Brown Ct.\, Nashville\, TN\, 37221\, United States
CATEGORIES:Reiki Classes
ATTACH;FMTTYPE=image/jpeg:https://beckibaumgartner.com/wp-content/uploads/2024/03/Reiki-3-Class-Graphic.jpg
ORGANIZER;CN="Becki Baumgartner%2C PhD":MAILTO:beckibaumgartner@comcast.net
END:VEVENT
END:VCALENDAR